BEGIN:VCALENDAR
VERSION:2.0
PRODID:-//Explore Tarpon Springs - ECPv6.15.20//NONSGML v1.0//EN
CALSCALE:GREGORIAN
METHOD:PUBLISH
X-ORIGINAL-URL:https://exploretarponsprings.com
X-WR-CALDESC:Events for Explore Tarpon Springs
REFRESH-INTERVAL;VALUE=DURATION:PT1H
X-Robots-Tag:noindex
X-PUBLISHED-TTL:PT1H
BEGIN:VTIMEZONE
TZID:America/New_York
BEGIN:DAYLIGHT
TZOFFSETFROM:-0500
TZOFFSETTO:-0400
TZNAME:EDT
DTSTART:20210314T070000
END:DAYLIGHT
BEGIN:STANDARD
TZOFFSETFROM:-0400
TZOFFSETTO:-0500
TZNAME:EST
DTSTART:20211107T060000
END:STANDARD
BEGIN:DAYLIGHT
TZOFFSETFROM:-0500
TZOFFSETTO:-0400
TZNAME:EDT
DTSTART:20220313T070000
END:DAYLIGHT
BEGIN:STANDARD
TZOFFSETFROM:-0400
TZOFFSETTO:-0500
TZNAME:EST
DTSTART:20221106T060000
END:STANDARD
BEGIN:DAYLIGHT
TZOFFSETFROM:-0500
TZOFFSETTO:-0400
TZNAME:EDT
DTSTART:20230312T070000
END:DAYLIGHT
BEGIN:STANDARD
TZOFFSETFROM:-0400
TZOFFSETTO:-0500
TZNAME:EST
DTSTART:20231105T060000
END:STANDARD
END:VTIMEZONE
BEGIN:VEVENT
DTSTART;TZID=America/New_York:20220122T190000
DTEND;TZID=America/New_York:20220122T210000
DTSTAMP:20260420T065413
CREATED:20210719T190026Z
LAST-MODIFIED:20210719T190026Z
UID:4746-1642878000-1642885200@exploretarponsprings.com
SUMMARY:Old Friends – A Simon & Garfunkel Tribute
DESCRIPTION:Old Friends is a stunning recreation of Simon & Garfunkel’s famous 1981 Concert in Central Park. This upbeat 90-minute show will take you back in time to that cool September night in New York City when Paul Simon and Art Garfunkel reunited for a free concert singing such hits as “Mrs. Robinson\,” “Homeward Bound\,” “Bridge Over Troubled Water\,” “The Boxer\,” “Scarborough Fair\,” “The Sounds of Silence\,” and many more!  Complete with a back-up band\, the warm\, blending harmonies and crisp guitar work recreate the sound\, look\, and feel of this legendary duo in their most famous performance ever.
URL:https://exploretarponsprings.com/event/old-friends-a-simon-garfunkel-tribute/
LOCATION:Tarpon Springs Performing Arts Center\, 324 Pine Street\, Tarpon Springs\, FL\, 34689\, United States
ATTACH;FMTTYPE=image/jpeg:https://exploretarponsprings.com/wp-content/uploads/2021/07/Old-Friends-v4.jpg
END:VEVENT
END:VCALENDAR