BEGIN:VCALENDAR
VERSION:2.0
PRODID:-//Explore Tarpon Springs - ECPv6.15.20//NONSGML v1.0//EN
CALSCALE:GREGORIAN
METHOD:PUBLISH
X-WR-CALNAME:Explore Tarpon Springs
X-ORIGINAL-URL:https://exploretarponsprings.com
X-WR-CALDESC:Events for Explore Tarpon Springs
REFRESH-INTERVAL;VALUE=DURATION:PT1H
X-Robots-Tag:noindex
X-PUBLISHED-TTL:PT1H
BEGIN:VTIMEZONE
TZID:America/New_York
BEGIN:DAYLIGHT
TZOFFSETFROM:-0500
TZOFFSETTO:-0400
TZNAME:EDT
DTSTART:20210314T070000
END:DAYLIGHT
BEGIN:STANDARD
TZOFFSETFROM:-0400
TZOFFSETTO:-0500
TZNAME:EST
DTSTART:20211107T060000
END:STANDARD
BEGIN:DAYLIGHT
TZOFFSETFROM:-0500
TZOFFSETTO:-0400
TZNAME:EDT
DTSTART:20220313T070000
END:DAYLIGHT
BEGIN:STANDARD
TZOFFSETFROM:-0400
TZOFFSETTO:-0500
TZNAME:EST
DTSTART:20221106T060000
END:STANDARD
BEGIN:DAYLIGHT
TZOFFSETFROM:-0500
TZOFFSETTO:-0400
TZNAME:EDT
DTSTART:20230312T070000
END:DAYLIGHT
BEGIN:STANDARD
TZOFFSETFROM:-0400
TZOFFSETTO:-0500
TZNAME:EST
DTSTART:20231105T060000
END:STANDARD
END:VTIMEZONE
BEGIN:VEVENT
DTSTART;TZID=America/New_York:20220205T190000
DTEND;TZID=America/New_York:20220205T210000
DTSTAMP:20260420T080812
CREATED:20210719T190328Z
LAST-MODIFIED:20210719T190328Z
UID:4750-1644087600-1644094800@exploretarponsprings.com
SUMMARY:Changes in Latitudes
DESCRIPTION:Changes in Latitudes is the country’s premier tribute show of singer-songwriter Jimmy Buffet\, the master of the tropical lifestyle. Get ready for the ultimate beach party! Leader Steve Kareta mimics Jimmy’s casual\, story-teller style\, taking you on a laid-back yet up-beat musical trip through the sun-drenched Caribbean. Expect to hear such classics as “Margaritaville\,” “Come Monday\,” “Cheeseburger in Paradise\,” and many more classic hits!
URL:https://exploretarponsprings.com/event/changes-in-latitudes/
LOCATION:Tarpon Springs Performing Arts Center\, 324 Pine Street\, Tarpon Springs\, FL\, 34689\, United States
ATTACH;FMTTYPE=image/jpeg:https://exploretarponsprings.com/wp-content/uploads/2021/07/Changes-in-Latitudes.jpg
END:VEVENT
END:VCALENDAR