BEGIN:VCALENDAR
VERSION:2.0
PRODID:-//Explore Tarpon Springs - ECPv6.15.20//NONSGML v1.0//EN
CALSCALE:GREGORIAN
METHOD:PUBLISH
X-ORIGINAL-URL:https://exploretarponsprings.com
X-WR-CALDESC:Events for Explore Tarpon Springs
REFRESH-INTERVAL;VALUE=DURATION:PT1H
X-Robots-Tag:noindex
X-PUBLISHED-TTL:PT1H
BEGIN:VTIMEZONE
TZID:America/New_York
BEGIN:DAYLIGHT
TZOFFSETFROM:-0500
TZOFFSETTO:-0400
TZNAME:EDT
DTSTART:20210314T070000
END:DAYLIGHT
BEGIN:STANDARD
TZOFFSETFROM:-0400
TZOFFSETTO:-0500
TZNAME:EST
DTSTART:20211107T060000
END:STANDARD
BEGIN:DAYLIGHT
TZOFFSETFROM:-0500
TZOFFSETTO:-0400
TZNAME:EDT
DTSTART:20220313T070000
END:DAYLIGHT
BEGIN:STANDARD
TZOFFSETFROM:-0400
TZOFFSETTO:-0500
TZNAME:EST
DTSTART:20221106T060000
END:STANDARD
BEGIN:DAYLIGHT
TZOFFSETFROM:-0500
TZOFFSETTO:-0400
TZNAME:EDT
DTSTART:20230312T070000
END:DAYLIGHT
BEGIN:STANDARD
TZOFFSETFROM:-0400
TZOFFSETTO:-0500
TZNAME:EST
DTSTART:20231105T060000
END:STANDARD
END:VTIMEZONE
BEGIN:VEVENT
DTSTART;TZID=America/New_York:20221202T200000
DTEND;TZID=America/New_York:20221202T220000
DTSTAMP:20260420T053517
CREATED:20210907T200257Z
LAST-MODIFIED:20220111T211426Z
UID:4874-1670011200-1670018400@exploretarponsprings.com
SUMMARY:33rd Annual Boat Parade
DESCRIPTION:FRIDAY\, DECEMBER 2nd\, approximately 8pm \nCRAIG PARK/SPRING BAYOU AREA \nThe boat parade will begin at the sponge docks and conclude at Spring Bayou. Grab a spot on the shore and enjoy the beautiful lighted boats as they enter the bayou. \nFREE
URL:https://exploretarponsprings.com/event/32nd-annual-boat-parade/
LOCATION:Craig Park\, Tarpon Avenue at Spring Boulevard\, Tarpon Springs\, FL\, 34689\, United States
END:VEVENT
END:VCALENDAR