BEGIN:VCALENDAR
VERSION:2.0
PRODID:-//Explore Tarpon Springs - ECPv6.15.20//NONSGML v1.0//EN
CALSCALE:GREGORIAN
METHOD:PUBLISH
X-WR-CALNAME:Explore Tarpon Springs
X-ORIGINAL-URL:https://exploretarponsprings.com
X-WR-CALDESC:Events for Explore Tarpon Springs
REFRESH-INTERVAL;VALUE=DURATION:PT1H
X-Robots-Tag:noindex
X-PUBLISHED-TTL:PT1H
BEGIN:VTIMEZONE
TZID:America/New_York
BEGIN:DAYLIGHT
TZOFFSETFROM:-0500
TZOFFSETTO:-0400
TZNAME:EDT
DTSTART:20230312T070000
END:DAYLIGHT
BEGIN:STANDARD
TZOFFSETFROM:-0400
TZOFFSETTO:-0500
TZNAME:EST
DTSTART:20231105T060000
END:STANDARD
BEGIN:DAYLIGHT
TZOFFSETFROM:-0500
TZOFFSETTO:-0400
TZNAME:EDT
DTSTART:20240310T070000
END:DAYLIGHT
BEGIN:STANDARD
TZOFFSETFROM:-0400
TZOFFSETTO:-0500
TZNAME:EST
DTSTART:20241103T060000
END:STANDARD
BEGIN:DAYLIGHT
TZOFFSETFROM:-0500
TZOFFSETTO:-0400
TZNAME:EDT
DTSTART:20250309T070000
END:DAYLIGHT
BEGIN:STANDARD
TZOFFSETFROM:-0400
TZOFFSETTO:-0500
TZNAME:EST
DTSTART:20251102T060000
END:STANDARD
END:VTIMEZONE
BEGIN:VEVENT
DTSTART;TZID=America/New_York:20240110T183000
DTEND;TZID=America/New_York:20240110T200000
DTSTAMP:20260421T091716
CREATED:20231226T175537Z
LAST-MODIFIED:20231226T180727Z
UID:8564-1704911400-1704916800@exploretarponsprings.com
SUMMARY:Ukulele Workshop
DESCRIPTION:Introductory Ukulele Workshop for Beginners.\nLearn about the different sizes\, and how to hold\, tune\, strum\, and play a few chords.\nLimited quantities of ukuleles will be available at the workshop. If you have a ukulele\, please bring it or check one out at the library. \nRegister online: tarponlibrary.org/ukulele
URL:https://exploretarponsprings.com/event/ukulele-workshop-3/
LOCATION:Tarpon Springs Library\, 138 E. Lemon Street\, Tarpon Springs\, FL\, 34689\, United States
ATTACH;FMTTYPE=image/png:https://exploretarponsprings.com/wp-content/uploads/2023/12/Facebook-Event-Covers-1200-×-628-px-15.png
ORGANIZER;CN="Tarpon Springs Library":MAILTO:tslibrary@ctsfl.us
END:VEVENT
END:VCALENDAR