BEGIN:VCALENDAR
VERSION:2.0
PRODID:-//Explore Tarpon Springs - ECPv6.15.20//NONSGML v1.0//EN
CALSCALE:GREGORIAN
METHOD:PUBLISH
X-WR-CALNAME:Explore Tarpon Springs
X-ORIGINAL-URL:https://exploretarponsprings.com
X-WR-CALDESC:Events for Explore Tarpon Springs
REFRESH-INTERVAL;VALUE=DURATION:PT1H
X-Robots-Tag:noindex
X-PUBLISHED-TTL:PT1H
BEGIN:VTIMEZONE
TZID:America/New_York
BEGIN:DAYLIGHT
TZOFFSETFROM:-0500
TZOFFSETTO:-0400
TZNAME:EDT
DTSTART:20230312T070000
END:DAYLIGHT
BEGIN:STANDARD
TZOFFSETFROM:-0400
TZOFFSETTO:-0500
TZNAME:EST
DTSTART:20231105T060000
END:STANDARD
BEGIN:DAYLIGHT
TZOFFSETFROM:-0500
TZOFFSETTO:-0400
TZNAME:EDT
DTSTART:20240310T070000
END:DAYLIGHT
BEGIN:STANDARD
TZOFFSETFROM:-0400
TZOFFSETTO:-0500
TZNAME:EST
DTSTART:20241103T060000
END:STANDARD
BEGIN:DAYLIGHT
TZOFFSETFROM:-0500
TZOFFSETTO:-0400
TZNAME:EDT
DTSTART:20250309T070000
END:DAYLIGHT
BEGIN:STANDARD
TZOFFSETFROM:-0400
TZOFFSETTO:-0500
TZNAME:EST
DTSTART:20251102T060000
END:STANDARD
END:VTIMEZONE
BEGIN:VEVENT
DTSTART;TZID=America/New_York:20240713T100000
DTEND;TZID=America/New_York:20240713T190000
DTSTAMP:20260422T083539
CREATED:20240214T201439Z
LAST-MODIFIED:20240611T143516Z
UID:10093-1720864800-1720897200@exploretarponsprings.com
SUMMARY:Tarpon Springs Sponge Docks Craft Festival (Sponge Docks)
DESCRIPTION:Craft Festival in Historic Tarpon Springs Sponge Docks. More than 90 of the nation’s top artists and crafters with Made in the USA creations. From jewelry to ceramics to plants to photography to paintings and homemade soap\, something to please everyone. \n  \nWhere: 735 Dodecanese Blvd\nDates: 4/27-4/28\, 7/13-7/14\, 9/28-9/29\, 10/26-10/27\nTime: 10:00am – 7:00pm\, Sunday: 5:00pm\nWebsite: http://spongedocks.net/\nOrganizer: Tarpon Springs Merchants Association\nEmail: helayne@artfestival.com
URL:https://exploretarponsprings.com/event/tarpon-springs-sponge-docks-craft-festival-sponge-docks-2024-07-13/
LOCATION:Sponge Docks\, 750 Dodecanese Blvd\, Tarpon Springs\, FL\, 34689\, United States
ATTACH;FMTTYPE=image/jpeg:https://exploretarponsprings.com/wp-content/uploads/2024/02/24-july-craft-fest-flyer.jpg
END:VEVENT
END:VCALENDAR