BEGIN:VCALENDAR
VERSION:2.0
PRODID:-//Explore Tarpon Springs - ECPv6.15.20//NONSGML v1.0//EN
CALSCALE:GREGORIAN
METHOD:PUBLISH
X-WR-CALNAME:Explore Tarpon Springs
X-ORIGINAL-URL:https://exploretarponsprings.com
X-WR-CALDESC:Events for Explore Tarpon Springs
REFRESH-INTERVAL;VALUE=DURATION:PT1H
X-Robots-Tag:noindex
X-PUBLISHED-TTL:PT1H
BEGIN:VTIMEZONE
TZID:America/New_York
BEGIN:DAYLIGHT
TZOFFSETFROM:-0500
TZOFFSETTO:-0400
TZNAME:EDT
DTSTART:20230312T070000
END:DAYLIGHT
BEGIN:STANDARD
TZOFFSETFROM:-0400
TZOFFSETTO:-0500
TZNAME:EST
DTSTART:20231105T060000
END:STANDARD
BEGIN:DAYLIGHT
TZOFFSETFROM:-0500
TZOFFSETTO:-0400
TZNAME:EDT
DTSTART:20240310T070000
END:DAYLIGHT
BEGIN:STANDARD
TZOFFSETFROM:-0400
TZOFFSETTO:-0500
TZNAME:EST
DTSTART:20241103T060000
END:STANDARD
BEGIN:DAYLIGHT
TZOFFSETFROM:-0500
TZOFFSETTO:-0400
TZNAME:EDT
DTSTART:20250309T070000
END:DAYLIGHT
BEGIN:STANDARD
TZOFFSETFROM:-0400
TZOFFSETTO:-0500
TZNAME:EST
DTSTART:20251102T060000
END:STANDARD
END:VTIMEZONE
BEGIN:VEVENT
DTSTART;TZID=America/New_York:20241114T190000
DTEND;TZID=America/New_York:20241114T210000
DTSTAMP:20260422T101333
CREATED:20241030T201539Z
LAST-MODIFIED:20241030T201539Z
UID:14415-1731610800-1731618000@exploretarponsprings.com
SUMMARY:Sunset Beach Concert
DESCRIPTION:The Tarpon Springs Recreation Division and AdventHealth North Pinellas\, present an evening with Code Monkey on Thursday\, November 14th at Sunset Beach from 7-9pm. Enjoy a night under the stars while listening to Rock\, Country & 80’s Hits. We will have vendors on-site selling food\, drinks\, and sweets. Sunset Beach is located at 1800 Gulf Rd. The event is FREE. Pets and alcohol are prohibited. \nIn the event of a rainout\, the postponement notification will be made at 5pm. \nWe provide a complimentary shuttle to assist with transporting concertgoers to and from the beach. The pick-up location is in the Tarpon Springs High School side parking lot located on Florida Avenue\, just south of Gulf Road. Shuttle signs are directing you where to turn in. The shuttle begins at 6 pm and ends at 9:15 pm. \nFor more information\, visit TSRDonline.com or call (727) 942-5628.
URL:https://exploretarponsprings.com/event/sunset-beach-concert-2/
LOCATION:FL
ATTACH;FMTTYPE=image/jpeg:https://exploretarponsprings.com/wp-content/uploads/2024/01/Sunset-Beach-Concerts.jpg
END:VEVENT
END:VCALENDAR