BEGIN:VCALENDAR
VERSION:2.0
PRODID:-//Explore Tarpon Springs - ECPv6.15.20//NONSGML v1.0//EN
CALSCALE:GREGORIAN
METHOD:PUBLISH
X-ORIGINAL-URL:https://exploretarponsprings.com
X-WR-CALDESC:Events for Explore Tarpon Springs
REFRESH-INTERVAL;VALUE=DURATION:PT1H
X-Robots-Tag:noindex
X-PUBLISHED-TTL:PT1H
BEGIN:VTIMEZONE
TZID:America/New_York
BEGIN:DAYLIGHT
TZOFFSETFROM:-0500
TZOFFSETTO:-0400
TZNAME:EDT
DTSTART:20240310T070000
END:DAYLIGHT
BEGIN:STANDARD
TZOFFSETFROM:-0400
TZOFFSETTO:-0500
TZNAME:EST
DTSTART:20241103T060000
END:STANDARD
BEGIN:DAYLIGHT
TZOFFSETFROM:-0500
TZOFFSETTO:-0400
TZNAME:EDT
DTSTART:20250309T070000
END:DAYLIGHT
BEGIN:STANDARD
TZOFFSETFROM:-0400
TZOFFSETTO:-0500
TZNAME:EST
DTSTART:20251102T060000
END:STANDARD
BEGIN:DAYLIGHT
TZOFFSETFROM:-0500
TZOFFSETTO:-0400
TZNAME:EDT
DTSTART:20260308T070000
END:DAYLIGHT
BEGIN:STANDARD
TZOFFSETFROM:-0400
TZOFFSETTO:-0500
TZNAME:EST
DTSTART:20261101T060000
END:STANDARD
END:VTIMEZONE
BEGIN:VEVENT
DTSTART;TZID=America/New_York:20250728T170000
DTEND;TZID=America/New_York:20250728T180000
DTSTAMP:20260420T095747
CREATED:20250708T132523Z
LAST-MODIFIED:20250708T132523Z
UID:16981-1753722000-1753725600@exploretarponsprings.com
SUMMARY:Teen Game Night
DESCRIPTION:(Teens 13-17)\nBring your friends and play board games and card games. Snacks provided.\nRegistration is required. Call Youth Services (727) 943-4922 ext. 6016 to register. \nTo see our current events visit: https://tarponlibrary.org/event-calendar/
URL:https://exploretarponsprings.com/event/teen-game-night/
LOCATION:Tarpon Springs Library\, 138 E. Lemon Street\, Tarpon Springs\, FL\, 34689\, United States
ATTACH;FMTTYPE=image/jpeg:https://exploretarponsprings.com/wp-content/uploads/2025/07/Facebook-Event-Covers-6.jpg
ORGANIZER;CN="Tarpon Springs Library":MAILTO:tslibrary@ctsfl.us
END:VEVENT
END:VCALENDAR