BEGIN:VCALENDAR
VERSION:2.0
PRODID:-//Explore Tarpon Springs - ECPv6.15.20//NONSGML v1.0//EN
CALSCALE:GREGORIAN
METHOD:PUBLISH
X-WR-CALNAME:Explore Tarpon Springs
X-ORIGINAL-URL:https://exploretarponsprings.com
X-WR-CALDESC:Events for Explore Tarpon Springs
REFRESH-INTERVAL;VALUE=DURATION:PT1H
X-Robots-Tag:noindex
X-PUBLISHED-TTL:PT1H
BEGIN:VTIMEZONE
TZID:America/New_York
BEGIN:DAYLIGHT
TZOFFSETFROM:-0500
TZOFFSETTO:-0400
TZNAME:EDT
DTSTART:20220313T070000
END:DAYLIGHT
BEGIN:STANDARD
TZOFFSETFROM:-0400
TZOFFSETTO:-0500
TZNAME:EST
DTSTART:20221106T060000
END:STANDARD
BEGIN:DAYLIGHT
TZOFFSETFROM:-0500
TZOFFSETTO:-0400
TZNAME:EDT
DTSTART:20230312T070000
END:DAYLIGHT
BEGIN:STANDARD
TZOFFSETFROM:-0400
TZOFFSETTO:-0500
TZNAME:EST
DTSTART:20231105T060000
END:STANDARD
BEGIN:DAYLIGHT
TZOFFSETFROM:-0500
TZOFFSETTO:-0400
TZNAME:EDT
DTSTART:20240310T070000
END:DAYLIGHT
BEGIN:STANDARD
TZOFFSETFROM:-0400
TZOFFSETTO:-0500
TZNAME:EST
DTSTART:20241103T060000
END:STANDARD
END:VTIMEZONE
BEGIN:VEVENT
DTSTART;TZID=America/New_York:20231103T180000
DTEND;TZID=America/New_York:20231103T220000
DTSTAMP:20260420T132742
CREATED:20230203T205910Z
LAST-MODIFIED:20230206T191726Z
UID:6391-1699034400-1699048800@exploretarponsprings.com
SUMMARY:First Friday - Art Walk
DESCRIPTION:Enjoy historic Downtown Tarpon Springs’ shops and restaurants while you listen to a variety of live music and peruse the many vendors. \nEvent theme changes monthly. Visit www.tarponspringsfloridausa.com for details. \nEmail: tarponspringsflorida@gmail.com for more information or to become a vendor. Events are subject to change.
URL:https://exploretarponsprings.com/event/first-friday-downtown-tarpon-springs-2023-11-03/
LOCATION:Downtown Tarpon Springs\, 1 N. Pinellas Ave\, Tarpon Springs\, FL\, 34689\, United States
ATTACH;FMTTYPE=image/jpeg:https://exploretarponsprings.com/wp-content/uploads/2023/02/328043129_906427583830547_7303872275134017389_n.jpg
END:VEVENT
BEGIN:VEVENT
DTSTART;TZID=America/New_York:20231104T090000
DTEND;TZID=America/New_York:20231104T120000
DTSTAMP:20260420T132742
CREATED:20230203T183233Z
LAST-MODIFIED:20230203T183233Z
UID:6372-1699088400-1699099200@exploretarponsprings.com
SUMMARY:Sunset Beach Clean Up with Keep Pinellas Beautiful
DESCRIPTION:SUNSET BEACH CLEANUP \nThe City of Tarpon Springs is teaming up with Keep Pinellas Beautiful to clean up Sunset Beach. Please wear closed-toed shoes and bring a reusable water bottle. Gloves and trash bags are provided. \nLocation:  Sunset Beach \nDay & Time: Saturday\, November 4th at 9 am \nFee: FREE
URL:https://exploretarponsprings.com/event/sunset-beach-clean-up-with-keep-pinellas-beautiful-4/
LOCATION:Sunset Beach\, 1800 Gulf Road\, Tarpon Springs\, FL\, 34689\, United States
ATTACH;FMTTYPE=image/jpeg:https://exploretarponsprings.com/wp-content/uploads/2023/02/CTS-0624.jpg
END:VEVENT
BEGIN:VEVENT
DTSTART;TZID=America/New_York:20231104T100000
DTEND;TZID=America/New_York:20231104T130000
DTSTAMP:20260420T132742
CREATED:20230908T150147Z
LAST-MODIFIED:20230908T150147Z
UID:7275-1699092000-1699102800@exploretarponsprings.com
SUMMARY:Historic Home Tour of the Golden Crescent
DESCRIPTION:
URL:https://exploretarponsprings.com/event/historic-home-tour-of-the-golden-crescent/
LOCATION:FL
ATTACH;FMTTYPE=image/jpeg:https://exploretarponsprings.com/wp-content/uploads/2023/09/Historic-Home-Tour-of-the-Golden-Crescent_Tarpon-Springs-FL.jpg
END:VEVENT
BEGIN:VEVENT
DTSTART;TZID=America/New_York:20231104T190000
DTEND;TZID=America/New_York:20231104T203000
DTSTAMP:20260420T132742
CREATED:20230816T192922Z
LAST-MODIFIED:20230816T193807Z
UID:7097-1699124400-1699129800@exploretarponsprings.com
SUMMARY:A Night of Comedy with Maryellen Hooper & Gary DeLena
DESCRIPTION:One evening\, featuring two hilarious\, accomplished comedians whose careers have spanned stages across the country and include frequent television appearances. Maryellen Hooper shares her ever-evolving saga about her life as a woman\, wife and mother\, while Gary DeLena is a triple-threat entertainer…a singing impressionist\, an accomplished musician\, and a comedian. Get ready for some serious laughter!
URL:https://exploretarponsprings.com/event/a-night-of-comedy-with-maryellen-hooper-gary-delena/
LOCATION:Tarpon Springs Performing Arts Center\, 324 Pine Street\, Tarpon Springs\, FL\, 34689\, United States
ATTACH;FMTTYPE=image/jpeg:https://exploretarponsprings.com/wp-content/uploads/2023/08/A-Night-of-Comedy_Header.jpg
END:VEVENT
BEGIN:VEVENT
DTSTART;TZID=America/New_York:20231111T180000
DTEND;TZID=America/New_York:20231111T220000
DTSTAMP:20260420T132742
CREATED:20230203T212523Z
LAST-MODIFIED:20230203T212523Z
UID:6394-1699725600-1699740000@exploretarponsprings.com
SUMMARY:Merry Martini - A Holiday Fun-raiser!
DESCRIPTION:Join the Tarpon Springs Merchants Association to help make Christmas great for seventy-five (75) Tarpon Springs Elementary\, Middle School & High School kids.  Our Christmas goal is to raise funds and gifts this season to help make our local school children and their families in need have a wonderful Christmas. \nOur Annual Merry Martini charitable evening of fun is Saturday\, November 11\, 2023 from 6-10 pm @ AHEPA\, 20 W. Tarpon Avenue.  Tickets are $35.  Take part in the Merry Martini Contest by tasting and then voting on your favorite martini from five (5) of our local restaurants in Tarpon Springs. \nEnjoy appetizers\, deserts\, live music and outbid your friends at the Silent Auction and take part in the “red carpet photo ops” and more.  Bid on the “Christmas Chairs” designed and painted by local artists and merchants.  Pick a “Christmas Angel” from our Xmas tree to shop for a child’s present. \nOnline ticket sales will be cut off at noon on November 10th.  They will be available at the door for the same price (cash or card).
URL:https://exploretarponsprings.com/event/merry-martini-a-holiday-fun-raiser/
LOCATION:FL
ATTACH;FMTTYPE=image/jpeg:https://exploretarponsprings.com/wp-content/uploads/2023/02/Screenshot-2023-02-03-162356.jpg
END:VEVENT
BEGIN:VEVENT
DTSTART;TZID=America/New_York:20231114T140000
DTEND;TZID=America/New_York:20231114T153000
DTSTAMP:20260420T132742
CREATED:20230816T193034Z
LAST-MODIFIED:20230816T193801Z
UID:7099-1699970400-1699975800@exploretarponsprings.com
SUMMARY:Knowledge & Nibbles – Dr. Mary Safford & Dr. Fidelia Whitcomb: Doctors\, Reformers\, Humanitarians\, and Friends
DESCRIPTION:Dr. Mary Safford (actor Dee O’Brien) and Dr. Fidelia Whitcomb (actor Elizabeth Coachman\, MD)  recount their over ten-year association that eventually led to their practicing medicine in Tarpon Springs in the 1880s. Dr. Whitcomb was a student of Dr. Safford at the Boston University School of Medicine. Both women were homeopathic physicians and ardent proponents of various reform movements. In the mid-1880s\, they ran the Tarpon Springs Hotel as a health spa based on homeopathic principles\, and both opened medical practices in town.  The two women were likely Florida’s first trained woman physicians.
URL:https://exploretarponsprings.com/event/knowledge-nibbles-dr-mary-safford-dr-fidelia-whitcomb-doctors-reformers-humanitarians-and-friends/
LOCATION:Heritage Museum\, 100 Beekman Lane\, Tarpon Springs\, FL\, 34689\, United States
ATTACH;FMTTYPE=image/jpeg:https://exploretarponsprings.com/wp-content/uploads/2023/08/KN-Dr.-Mary-Safford-and-Dr.-Fidelia-Whitcomb_Header.jpg
END:VEVENT
BEGIN:VEVENT
DTSTART;TZID=America/New_York:20231117T100000
DTEND;TZID=America/New_York:20231117T210000
DTSTAMP:20260420T132742
CREATED:20230206T174613Z
LAST-MODIFIED:20230206T174613Z
UID:6421-1700215200-1700254800@exploretarponsprings.com
SUMMARY:Seafood Festival
DESCRIPTION:This three‑day outdoor Festival is hosted by The Tarpon Spring Merchant’s Association. Showcasing selected artisans\, craftsmen\, and unique vendors. They will show and sell nautical and food related art\, crafts\, fishing apparel\, kitchen and cooking items\, food samples and fun for the whole family\, including a jump zone for the little fish. Don’t miss the boat on this seafood extravaganza! Complimentary admission\, parking and shuttle service! Pet and Family friendly.\nAdmission: none / Days/­Hours Open: Sat 10am‑9pm\, Sun 10am‑5pm
URL:https://exploretarponsprings.com/event/seafood-festival-2/2023-11-17/
LOCATION:Craig Park\, Tarpon Avenue at Spring Boulevard\, Tarpon Springs\, FL\, 34689\, United States
ATTACH;FMTTYPE=image/webp:https://exploretarponsprings.com/wp-content/uploads/2023/02/1657203521_TSSF-Logo-.webp
END:VEVENT
BEGIN:VEVENT
DTSTART;TZID=America/New_York:20231117T190000
DTEND;TZID=America/New_York:20231117T210000
DTSTAMP:20260420T132742
CREATED:20230816T193150Z
LAST-MODIFIED:20230816T193754Z
UID:7101-1700247600-1700254800@exploretarponsprings.com
SUMMARY:Frontiers – A Tribute to the Music of Journey
DESCRIPTION:Frontiers is the world’s number one tribute to Journey. These five skilled\, renowned musicians recreate the music of Journey to perfection\, note for note – every nuance\, every iconic riff\, all the feels. Enjoy timeless\, chart-topping hits such as “Open Arms”\, “Separate Ways”\, “Send Her My Love”\, “Faithfully”\, “Stone in Love”\, “Don’t Stop Believing”\, “Who’s Crying Now”\, “Anyway You Want It”\, and many others that ruled the airwaves.
URL:https://exploretarponsprings.com/event/frontiers-a-tribute-to-the-music-of-journey/
LOCATION:Tarpon Springs Performing Arts Center\, 324 Pine Street\, Tarpon Springs\, FL\, 34689\, United States
ATTACH;FMTTYPE=image/jpeg:https://exploretarponsprings.com/wp-content/uploads/2023/08/Frontiers_Header.jpg
END:VEVENT
BEGIN:VEVENT
DTSTART;TZID=America/New_York:20231119T140000
DTEND;TZID=America/New_York:20231119T150000
DTSTAMP:20260420T132742
CREATED:20230816T193302Z
LAST-MODIFIED:20230911T162421Z
UID:7103-1700402400-1700406000@exploretarponsprings.com
SUMMARY:Flip Flop Opera – The Best of Italian Composers
DESCRIPTION:Join New Century Opera Artistic Director Constantine Grame and the NCO singers for a fun\, casual\, and informative hour featuring the music of some of Italy’s greatest composers such as Giuseppe Verdi\, Giacomo Puccini\, Gioachino Rossini\, Gaetano Donizetti\, and more! Enjoy arias from some of their most famous operas\, along with fun facts and biographical information about the composers. Skip the opera glasses and fancy attire that is characteristic of most opera performances. Your flip-flops are totally welcome! Appropriate for opera experts and novices!
URL:https://exploretarponsprings.com/event/flip-flop-opera-the-best-of-italian-composers/
LOCATION:Heritage Museum\, 100 Beekman Lane\, Tarpon Springs\, FL\, 34689\, United States
ATTACH;FMTTYPE=image/jpeg:https://exploretarponsprings.com/wp-content/uploads/2023/08/FFO-Italian_Header.jpg
END:VEVENT
BEGIN:VEVENT
DTSTART;TZID=America/New_York:20231125T100000
DTEND;TZID=America/New_York:20231125T170000
DTSTAMP:20260420T132742
CREATED:20230207T161252Z
LAST-MODIFIED:20230207T161252Z
UID:6435-1700906400-1700931600@exploretarponsprings.com
SUMMARY:Thanksgiving Arts & Crafts Festival
DESCRIPTION:Get a jump start on your holiday shopping and enjoy the Arts & Crafts Festival in historic Downtown Tarpon Springs! The outdoor showcase\, hosted by the Tarpon Springs Chamber of Commerce\, has been a holiday favorite for over 30 years\, and has always been held during Thanksgiving weekend on Small Business Saturday (and Sunday). During one of the busiest shopping periods of the year\, finding that perfect gift has never been easier with a wide selection of offerings from fine art to crafts to local businesses.
URL:https://exploretarponsprings.com/event/thanksgiving-arts-crafts-festival-2/2023-11-25/
LOCATION:Downtown Tarpon Springs\, 1 N. Pinellas Ave\, Tarpon Springs\, FL\, 34689\, United States
ATTACH;FMTTYPE=image/webp:https://exploretarponsprings.com/wp-content/uploads/2023/02/318363-10150510952978793-2024956093-n___29172720004.webp
ORGANIZER;CN="Tarpon Springs Chamber of Commerce":MAILTO:president@tarponspringschamber.org
END:VEVENT
BEGIN:VEVENT
DTSTART;TZID=America/New_York:20231125T160000
DTEND;TZID=America/New_York:20231125T210000
DTSTAMP:20260420T132742
CREATED:20230206T165809Z
LAST-MODIFIED:20230206T165809Z
UID:6413-1700928000-1700946000@exploretarponsprings.com
SUMMARY:Wine Walk
DESCRIPTION:The super popular Wine Walk includes 25 wine tastings\, wine glass and appetizers. Tickets ($30 each) can be purchased ONLINE ONLY at https://tarponspringsfloridausa.com and the cut-off date is the day before the event at noon. The Wine Walk starts at one of two locations: in Downtown Tarpon Springs at the store “One Amazing Find”\, 106 E. Tarpon Ave. or on the Sponge Docks at “Costa’s Restaurant”\, 521 Athens Street. Tickets will be available at the door for CASH ONLY. NOTE: The Wine Walk Downtown Tarpon Springs runs from 4-9 PM and at the Sponge Docks from 4-8 PM. \nPlease note that this event is rain or shine. There are no refunds or exchanges for tickets. Call 727-543-1593 for more information.
URL:https://exploretarponsprings.com/event/wine-walk-6/
LOCATION:Tarpon Springs\, 324 Pine St\, Tarpon Springs\, FL\, 34689\, United States
ATTACH;FMTTYPE=image/jpeg:https://exploretarponsprings.com/wp-content/uploads/2023/02/326579885_884821422720102_7942243697028254560_n.jpg
END:VEVENT
END:VCALENDAR