BEGIN:VCALENDAR
VERSION:2.0
PRODID:-//Explore Tarpon Springs - ECPv6.15.20//NONSGML v1.0//EN
CALSCALE:GREGORIAN
METHOD:PUBLISH
X-ORIGINAL-URL:https://exploretarponsprings.com
X-WR-CALDESC:Events for Explore Tarpon Springs
REFRESH-INTERVAL;VALUE=DURATION:PT1H
X-Robots-Tag:noindex
X-PUBLISHED-TTL:PT1H
BEGIN:VTIMEZONE
TZID:America/New_York
BEGIN:DAYLIGHT
TZOFFSETFROM:-0500
TZOFFSETTO:-0400
TZNAME:EDT
DTSTART:20210314T070000
END:DAYLIGHT
BEGIN:STANDARD
TZOFFSETFROM:-0400
TZOFFSETTO:-0500
TZNAME:EST
DTSTART:20211107T060000
END:STANDARD
BEGIN:DAYLIGHT
TZOFFSETFROM:-0500
TZOFFSETTO:-0400
TZNAME:EDT
DTSTART:20220313T070000
END:DAYLIGHT
BEGIN:STANDARD
TZOFFSETFROM:-0400
TZOFFSETTO:-0500
TZNAME:EST
DTSTART:20221106T060000
END:STANDARD
BEGIN:DAYLIGHT
TZOFFSETFROM:-0500
TZOFFSETTO:-0400
TZNAME:EDT
DTSTART:20230312T070000
END:DAYLIGHT
BEGIN:STANDARD
TZOFFSETFROM:-0400
TZOFFSETTO:-0500
TZNAME:EST
DTSTART:20231105T060000
END:STANDARD
END:VTIMEZONE
BEGIN:VEVENT
DTSTART;TZID=America/New_York:20220208T140000
DTEND;TZID=America/New_York:20220208T160000
DTSTAMP:20260423T104249
CREATED:20210719T190441Z
LAST-MODIFIED:20211019T143708Z
UID:4752-1644328800-1644336000@exploretarponsprings.com
SUMMARY:Knowledge & Nibbles: Tree Removal: Florida Property Law vs. City Ordinances
DESCRIPTION:Speaker – Shannon Brewer\, City of Tarpon Springs Municipal Arborist\n  \nFREE Event – Reservations Requested\n  \n\n\nStatute 163.045 private property owner rights\n\n\nCurrent ordinances for trees that do not qualify\n\n\nHow and why to find ISA Certified Arborist\n\n\nProperty line pruning
URL:https://exploretarponsprings.com/event/knowledge-nibbles-tree-removal-florida-property-law-vs-city-ordinances/
LOCATION:Heritage Museum\, 100 Beekman Lane\, Tarpon Springs\, FL\, 34689\, United States
ATTACH;FMTTYPE=image/png:https://exploretarponsprings.com/wp-content/uploads/2021/07/KN-Tree-Removal.png
END:VEVENT
BEGIN:VEVENT
DTSTART;TZID=America/New_York:20220211T190000
DTEND;TZID=America/New_York:20220211T210000
DTSTAMP:20260423T104249
CREATED:20210719T190715Z
LAST-MODIFIED:20210719T190715Z
UID:4754-1644606000-1644613200@exploretarponsprings.com
SUMMARY:Funny Little Thing Called Love
DESCRIPTION:Directed by Elizabeth Phillips\nA Comedy by Jones\, Hope\, Wooten\n\nGet onboard for an around-the-globe journey of hilarious twists and turns. Your romantic misadventures begin with a used-car-selling Romeo in Dallas\, Texas\, then on to Waikiki with a bunch of fun-loving gals from Georgia who foul up a honeymoon. Next stop is a London rooftop bistro with a budding romance and annoying American tourist. You’ll safely land in New York to see how a mid-life crisis and zippy marriage proposal work out. By the time the play is finished\, love will conquer all and your sides will ache from laughter!
URL:https://exploretarponsprings.com/event/funny-little-thing-called-love/2022-02-11/
LOCATION:Tarpon Springs Cultural Center\, 101 S. Pinellas Ave\, Tarpon Springs\, FL\, 34689
ATTACH;FMTTYPE=image/jpeg:https://exploretarponsprings.com/wp-content/uploads/2021/07/Funny-Little-Thing-Called-Love.jpg
END:VEVENT
BEGIN:VEVENT
DTSTART;TZID=America/New_York:20220211T190000
DTEND;TZID=America/New_York:20220211T210000
DTSTAMP:20260423T104249
CREATED:20210719T190816Z
LAST-MODIFIED:20211222T193415Z
UID:4761-1644606000-1644613200@exploretarponsprings.com
SUMMARY:Destination Motown Featuring the Sensational Soul Cruisers
DESCRIPTION:The Sensational Soul Cruisers are an 11-man\, horn group fronted by four soulful vocalists who pay homage and tribute to the very best of the 60’s\, 70’s & 80’s Old School\, Classic Soul\, R&B\, Motown and Disco.  This music group captures and emulates the distinctive style of a classic show band working together to deliver the ultimate Soul Cruisers dance party! If you miss the music of groups like The Temptations\, Four Tops\, Earth Wind & Fire\, Chicago\, and other iconic groups\, get ready to relive some of the best music ever recorded or played live with the Soul Cruisers.
URL:https://exploretarponsprings.com/event/destination-motown-featuring-the-sensational-soul-cruisers/
LOCATION:Tarpon Springs Performing Arts Center\, 324 Pine Street\, Tarpon Springs\, FL\, 34689\, United States
ATTACH;FMTTYPE=image/jpeg:https://exploretarponsprings.com/wp-content/uploads/2021/07/The-Soul-Cruisers-v3.jpg
END:VEVENT
BEGIN:VEVENT
DTSTART;TZID=America/New_York:20220212T090000
DTEND;TZID=America/New_York:20220212T140000
DTSTAMP:20260423T104249
CREATED:20220110T203725Z
LAST-MODIFIED:20221026T163942Z
UID:5101-1644656400-1644674400@exploretarponsprings.com
SUMMARY:2nd Saturday Market
DESCRIPTION:Vendors\, Food and Shopping in beautiful Downtown Tarpon Springs. Located in the Mother Meres Parking lot at the corner of Tarpon Ave. \n  \nEmail: tarponspringsflorida@gmail.com for details.
URL:https://exploretarponsprings.com/event/2nd-saturday-market/2022-02-12/
LOCATION:Mother Meres Parking Lot\, Tarpon Springs\, FL\, 34689\, United States
ATTACH;FMTTYPE=image/jpeg:https://exploretarponsprings.com/wp-content/uploads/2022/01/Second-Saturday-Market-November-2022.jpg
END:VEVENT
BEGIN:VEVENT
DTSTART;TZID=America/New_York:20220212T190000
DTEND;TZID=America/New_York:20220212T220000
DTSTAMP:20260423T104249
CREATED:20191118T165100Z
LAST-MODIFIED:20220401T191115Z
UID:3648-1644692400-1644703200@exploretarponsprings.com
SUMMARY:Movies in the Park (Splash Park)
DESCRIPTION:Location has changed to Tarpon Springs Recreation Center\, 400 S Walton Ave\, Tarpon Springs\, FL 34689. \n  \nThe Tarpon Springs Recreation Department will be hosting monthly movies. Come enjoy the show! \nMovies begin at Dusk. \n  \nSaturday\, February 12th:    (Games at 6 pm\, Movie at 7pm) SS 6:20p \nSaturday\, March 12th:         (Games at 6 pm\, Movie at 7pm) SS 6:39p \nSaturday\, April 2nd:            (Games at 7 pm\, Movie at 8 pm) SS 7:50p – Location has changed to Tarpon Springs Recreation Center\, 400 S Walton Ave\, Tarpon Springs\, FL 34689.
URL:https://exploretarponsprings.com/event/movies-in-the-park-2020-04-18/2022-02-12/
LOCATION:Tarpon Springs Recreation\, 400 S Walton Ave\, Tarpon Springs\, FL\, 34689\, United States
ATTACH;FMTTYPE=image/jpeg:https://exploretarponsprings.com/wp-content/uploads/2019/11/MovieInThePark.jpg
END:VEVENT
END:VCALENDAR