BEGIN:VCALENDAR
VERSION:2.0
PRODID:-//Explore Tarpon Springs - ECPv6.15.20//NONSGML v1.0//EN
CALSCALE:GREGORIAN
METHOD:PUBLISH
X-WR-CALNAME:Explore Tarpon Springs
X-ORIGINAL-URL:https://exploretarponsprings.com
X-WR-CALDESC:Events for Explore Tarpon Springs
REFRESH-INTERVAL;VALUE=DURATION:PT1H
X-Robots-Tag:noindex
X-PUBLISHED-TTL:PT1H
BEGIN:VTIMEZONE
TZID:America/New_York
BEGIN:DAYLIGHT
TZOFFSETFROM:-0500
TZOFFSETTO:-0400
TZNAME:EDT
DTSTART:20210314T070000
END:DAYLIGHT
BEGIN:STANDARD
TZOFFSETFROM:-0400
TZOFFSETTO:-0500
TZNAME:EST
DTSTART:20211107T060000
END:STANDARD
BEGIN:DAYLIGHT
TZOFFSETFROM:-0500
TZOFFSETTO:-0400
TZNAME:EDT
DTSTART:20220313T070000
END:DAYLIGHT
BEGIN:STANDARD
TZOFFSETFROM:-0400
TZOFFSETTO:-0500
TZNAME:EST
DTSTART:20221106T060000
END:STANDARD
BEGIN:DAYLIGHT
TZOFFSETFROM:-0500
TZOFFSETTO:-0400
TZNAME:EDT
DTSTART:20230312T070000
END:DAYLIGHT
BEGIN:STANDARD
TZOFFSETFROM:-0400
TZOFFSETTO:-0500
TZNAME:EST
DTSTART:20231105T060000
END:STANDARD
END:VTIMEZONE
BEGIN:VEVENT
DTSTART;TZID=America/New_York:20221008T190000
DTEND;TZID=America/New_York:20221008T210000
DTSTAMP:20260424T112430
CREATED:20220805T190424Z
LAST-MODIFIED:20220805T190424Z
UID:5588-1665255600-1665262800@exploretarponsprings.com
SUMMARY:Turnstiles: The Ultimate Tribute to the Music of Billy Joel
DESCRIPTION:Never intending to be impersonators\, Turnstiles focus is simply on the music and delivering a faithful and completely live Billy Joel experience to share with others. Turnstiles’ renditions of Billy’s classic songs are certain to move the casual listener as well as the hard core “Joel fan” to their feet and have them singing along with all the classics! Enjoy an evening of Billy Joel’s greatest hits! \n 
URL:https://exploretarponsprings.com/event/turnstiles-the-ultimate-tribute-to-the-music-of-billy-joel/
LOCATION:Tarpon Springs Performing Arts Center\, 324 Pine Street\, Tarpon Springs\, FL\, 34689\, United States
ATTACH;FMTTYPE=image/png:https://exploretarponsprings.com/wp-content/uploads/2022/08/Turnstiles.png
END:VEVENT
END:VCALENDAR