BEGIN:VCALENDAR
VERSION:2.0
PRODID:-//Explore Tarpon Springs - ECPv6.15.20//NONSGML v1.0//EN
CALSCALE:GREGORIAN
METHOD:PUBLISH
X-WR-CALNAME:Explore Tarpon Springs
X-ORIGINAL-URL:https://exploretarponsprings.com
X-WR-CALDESC:Events for Explore Tarpon Springs
REFRESH-INTERVAL;VALUE=DURATION:PT1H
X-Robots-Tag:noindex
X-PUBLISHED-TTL:PT1H
BEGIN:VTIMEZONE
TZID:America/New_York
BEGIN:DAYLIGHT
TZOFFSETFROM:-0500
TZOFFSETTO:-0400
TZNAME:EDT
DTSTART:20220313T070000
END:DAYLIGHT
BEGIN:STANDARD
TZOFFSETFROM:-0400
TZOFFSETTO:-0500
TZNAME:EST
DTSTART:20221106T060000
END:STANDARD
BEGIN:DAYLIGHT
TZOFFSETFROM:-0500
TZOFFSETTO:-0400
TZNAME:EDT
DTSTART:20230312T070000
END:DAYLIGHT
BEGIN:STANDARD
TZOFFSETFROM:-0400
TZOFFSETTO:-0500
TZNAME:EST
DTSTART:20231105T060000
END:STANDARD
BEGIN:DAYLIGHT
TZOFFSETFROM:-0500
TZOFFSETTO:-0400
TZNAME:EDT
DTSTART:20240310T070000
END:DAYLIGHT
BEGIN:STANDARD
TZOFFSETFROM:-0400
TZOFFSETTO:-0500
TZNAME:EST
DTSTART:20241103T060000
END:STANDARD
END:VTIMEZONE
BEGIN:VEVENT
DTSTART;TZID=America/New_York:20230121T190000
DTEND;TZID=America/New_York:20230121T210000
DTSTAMP:20260420T064556
CREATED:20220805T192553Z
LAST-MODIFIED:20220805T192553Z
UID:5608-1674327600-1674334800@exploretarponsprings.com
SUMMARY:Beginnings - The Ultimate Chicago Tribute
DESCRIPTION:Beginnings has earned a well-deserved reputation as the nation’s premier tribute to America’s favorite “Rock and Roll Band with Horns.” Every show is an electrifying live concert experience\, featuring accurate versions of Chicago’s vast catalog of hits played by world class musicians from across the country with performance credits including Billy Joel’s “Movin’ Out\,” Aretha Franklin\, The Temptations\, and many others. Only musicians of this caliber can truly “deliver the goods” when it comes to performing the unique and challenging music of Chicago. Come see Beginnings live and see why “Make Me Smile” is not merely a great Chicago song\, it is the band’s mantra! \n 
URL:https://exploretarponsprings.com/event/beginnings-the-ultimate-chicago-tribute/
LOCATION:Tarpon Springs Performing Arts Center\, 324 Pine Street\, Tarpon Springs\, FL\, 34689\, United States
ATTACH;FMTTYPE=image/png:https://exploretarponsprings.com/wp-content/uploads/2022/08/Beginnings.png
END:VEVENT
END:VCALENDAR