BEGIN:VCALENDAR
VERSION:2.0
PRODID:-//Explore Tarpon Springs - ECPv6.15.20//NONSGML v1.0//EN
CALSCALE:GREGORIAN
METHOD:PUBLISH
X-ORIGINAL-URL:https://exploretarponsprings.com
X-WR-CALDESC:Events for Explore Tarpon Springs
REFRESH-INTERVAL;VALUE=DURATION:PT1H
X-Robots-Tag:noindex
X-PUBLISHED-TTL:PT1H
BEGIN:VTIMEZONE
TZID:America/New_York
BEGIN:DAYLIGHT
TZOFFSETFROM:-0500
TZOFFSETTO:-0400
TZNAME:EDT
DTSTART:20220313T070000
END:DAYLIGHT
BEGIN:STANDARD
TZOFFSETFROM:-0400
TZOFFSETTO:-0500
TZNAME:EST
DTSTART:20221106T060000
END:STANDARD
BEGIN:DAYLIGHT
TZOFFSETFROM:-0500
TZOFFSETTO:-0400
TZNAME:EDT
DTSTART:20230312T070000
END:DAYLIGHT
BEGIN:STANDARD
TZOFFSETFROM:-0400
TZOFFSETTO:-0500
TZNAME:EST
DTSTART:20231105T060000
END:STANDARD
BEGIN:DAYLIGHT
TZOFFSETFROM:-0500
TZOFFSETTO:-0400
TZNAME:EDT
DTSTART:20240310T070000
END:DAYLIGHT
BEGIN:STANDARD
TZOFFSETFROM:-0400
TZOFFSETTO:-0500
TZNAME:EST
DTSTART:20241103T060000
END:STANDARD
END:VTIMEZONE
BEGIN:VEVENT
DTSTART;TZID=America/New_York:20230330T190000
DTEND;TZID=America/New_York:20230330T210000
DTSTAMP:20260424T082715
CREATED:20230327T183414Z
LAST-MODIFIED:20230327T183414Z
UID:6638-1680202800-1680210000@exploretarponsprings.com
SUMMARY:GREASE the Musical
DESCRIPTION:Tarpon Springs High School Choral and Theater Department presents Grease the Musical! March 30 -April 1\, 2023. Amazing performances sure to make you dance in your seat!
URL:https://exploretarponsprings.com/event/grease-the-musical/2023-03-30/
LOCATION:1411 Gulf Rd. Tarpon Springs\, 1411 Gulf Rd.\, Tarpon Springs\, FL\, 34689\, United States
ATTACH;FMTTYPE=image/jpeg:https://exploretarponsprings.com/wp-content/uploads/2023/03/Screenshot_20230321_160433_Microsoft-365-Office.jpg
ORGANIZER;CN="Tarpon Springs High School":MAILTO:TSHSCHORALBOOSTERSMEDIA@GMAIL.COM
END:VEVENT
BEGIN:VEVENT
DTSTART;TZID=America/New_York:20230401T100000
DTEND;TZID=America/New_York:20230401T130000
DTSTAMP:20260424T082715
CREATED:20230203T180145Z
LAST-MODIFIED:20230203T180145Z
UID:6356-1680343200-1680354000@exploretarponsprings.com
SUMMARY:Tarpon Springs Easter Egg-Stravaganza
DESCRIPTION:TARPON SPRINGS EASTER EGG-STRAVAGANZA \nHop on over to the sports complex for a spectacular egg hunt. We will have children’s activities\, crafts\, bounce houses and more! \nLocation:  Sports Complex \nDay & Time: Saturday\, April 1st\, from 10 am-1 pm \nFee:  FREE
URL:https://exploretarponsprings.com/event/tarpon-springs-easter-egg-stravaganza/
LOCATION:Sports Complex\, 150 N. Jasmine Avenue\, Tarpon Springs\, 34689\, United States
ATTACH;FMTTYPE=image/jpeg:https://exploretarponsprings.com/wp-content/uploads/2023/02/a039d2e3-789b-46e1-a044-1e1b398e2fe2.90f94aaf59aeb7dbf97a6b8d649f6821.jpeg
END:VEVENT
BEGIN:VEVENT
DTSTART;TZID=America/New_York:20230401T190000
DTEND;TZID=America/New_York:20230401T210000
DTSTAMP:20260424T082715
CREATED:20230131T193801Z
LAST-MODIFIED:20230131T193801Z
UID:6278-1680375600-1680382800@exploretarponsprings.com
SUMMARY:Jersey Tenors - The Wise Guys Are Back!
DESCRIPTION:The Jersey Tenors are back by popular demand with their Mash-up of Rock & Opera\, performing an explosive blend of iconic Opera classics alongside Rock ‘N Roll favorites like Queen\, Elton John\, and Bon Jovi – to name but a few. But! We are also Jersey Proud — and we do not forget where we came from\, so we highlight some of Jersey’s finest like Frankie Valli and The Four Seasons\, Frank Sinatra\, Bruce Springsteen\, Kool and The Gang\, and even Jersey Girl Whitney Houston! These four charming wise guys will raise the roof with their powerful voices…and you’ll be singing along before yous guys know it. Forgettaboutit!!!
URL:https://exploretarponsprings.com/event/jersey-tenors-the-wise-guys-are-back/
LOCATION:Tarpon Springs Performing Arts Center\, 324 Pine Street\, Tarpon Springs\, FL\, 34689\, United States
ATTACH;FMTTYPE=image/jpeg:https://exploretarponsprings.com/wp-content/uploads/2023/01/Jersey-Tenors.jpg
END:VEVENT
BEGIN:VEVENT
DTSTART;TZID=America/New_York:20230402T140000
DTEND;TZID=America/New_York:20230402T160000
DTSTAMP:20260424T082715
CREATED:20220805T194114Z
LAST-MODIFIED:20220805T194114Z
UID:5620-1680444000-1680451200@exploretarponsprings.com
SUMMARY:Flip Flop Opera – Bizet
DESCRIPTION:Whether you are already an opera fan or new to the genre\, join Tarpon Arts for Flip Flop Opera and be inspired! New Century Opera presents a fun\, casual\, and informative hour featuring the music of opera’s greatest composers. Enjoy arias from some of the most famous operas – sung by your favorite NCO singers\, along with fun facts and biographical information about the composer provided by company director Constantine Grame. Skip the opera glasses\, fancy attire and the pearl necklace – wearing your flip flops is totally welcome! A sampling of Bizet’s most famous operas: The Pearl Fishers and Carmen.
URL:https://exploretarponsprings.com/event/flip-flop-opera-bizet/
LOCATION:Tarpon Springs Cultural Center\, 101 S. Pinellas Ave\, Tarpon Springs\, FL\, 34689
ATTACH;FMTTYPE=image/jpeg:https://exploretarponsprings.com/wp-content/uploads/2022/08/FFO-Bizet.jpg
END:VEVENT
END:VCALENDAR