BEGIN:VCALENDAR
VERSION:2.0
PRODID:-//Explore Tarpon Springs - ECPv6.15.20//NONSGML v1.0//EN
CALSCALE:GREGORIAN
METHOD:PUBLISH
X-WR-CALNAME:Explore Tarpon Springs
X-ORIGINAL-URL:https://exploretarponsprings.com
X-WR-CALDESC:Events for Explore Tarpon Springs
REFRESH-INTERVAL;VALUE=DURATION:PT1H
X-Robots-Tag:noindex
X-PUBLISHED-TTL:PT1H
BEGIN:VTIMEZONE
TZID:America/New_York
BEGIN:DAYLIGHT
TZOFFSETFROM:-0500
TZOFFSETTO:-0400
TZNAME:EDT
DTSTART:20220313T070000
END:DAYLIGHT
BEGIN:STANDARD
TZOFFSETFROM:-0400
TZOFFSETTO:-0500
TZNAME:EST
DTSTART:20221106T060000
END:STANDARD
BEGIN:DAYLIGHT
TZOFFSETFROM:-0500
TZOFFSETTO:-0400
TZNAME:EDT
DTSTART:20230312T070000
END:DAYLIGHT
BEGIN:STANDARD
TZOFFSETFROM:-0400
TZOFFSETTO:-0500
TZNAME:EST
DTSTART:20231105T060000
END:STANDARD
BEGIN:DAYLIGHT
TZOFFSETFROM:-0500
TZOFFSETTO:-0400
TZNAME:EDT
DTSTART:20240310T070000
END:DAYLIGHT
BEGIN:STANDARD
TZOFFSETFROM:-0400
TZOFFSETTO:-0500
TZNAME:EST
DTSTART:20241103T060000
END:STANDARD
END:VTIMEZONE
BEGIN:VEVENT
DTSTART;TZID=America/New_York:20230906T130000
DTEND;TZID=America/New_York:20230906T160000
DTSTAMP:20260424T062034
CREATED:20230816T191130Z
LAST-MODIFIED:20230816T191130Z
UID:7055-1694005200-1694016000@exploretarponsprings.com
SUMMARY:Elizabeth Indianos: INTROSPECTIVE: PUBLIC / PRIVATE
DESCRIPTION:Elizabeth Indianos\, INTROSPECTIVE: PUBLIC / PRIVATE art exhibit traces her 50-year career as an award-winning visual artist\, playwright\, multidisciplinary artist\, and art in public places designer. Her reputation extends beyond Tarpon Springs where she has received state-wide\, national\, and international recognition for her creative efforts. The exhibition is curated by founding Director of the Leepa-Rattner Museum of Art\, R. Lynn Whitelaw\, who has 40+ years experience working in the visual arts.
URL:https://exploretarponsprings.com/event/elizabeth-indianos-introspective-public-private/2023-09-06/
LOCATION:Tarpon Springs Cultural Center\, 101 S. Pinellas Ave\, Tarpon Springs\, FL\, 34689
ATTACH;FMTTYPE=image/jpeg:https://exploretarponsprings.com/wp-content/uploads/2023/08/Elizabeth-Indianos_Header-1.jpg
END:VEVENT
BEGIN:VEVENT
DTSTART;TZID=America/New_York:20230909T090000
DTEND;TZID=America/New_York:20230909T120000
DTSTAMP:20260424T062034
CREATED:20230203T182216Z
LAST-MODIFIED:20230203T182216Z
UID:6366-1694250000-1694260800@exploretarponsprings.com
SUMMARY:Sunset Beach Clean Up with Keep Pinellas Beautiful
DESCRIPTION:SUNSET BEACH CLEANUP \nThe City of Tarpon Springs is teaming up with Keep Pinellas Beautiful to clean up Sunset Beach. Please wear closed-toed shoes and bring a reusable water bottle. Gloves and trash bags are provided. \nLocation:  Sunset Beach \nDay & Time: Saturday\, September 9th at 9 am \nFee: FREE
URL:https://exploretarponsprings.com/event/sunset-beach-clean-up-with-keep-pinellas-beautiful-3/
LOCATION:Sunset Beach\, 1800 Gulf Road\, Tarpon Springs\, FL\, 34689\, United States
ATTACH;FMTTYPE=image/jpeg:https://exploretarponsprings.com/wp-content/uploads/2023/02/CTS-0624.jpg
END:VEVENT
BEGIN:VEVENT
DTSTART;TZID=America/New_York:20230909T140000
DTEND;TZID=America/New_York:20230909T153000
DTSTAMP:20260424T062034
CREATED:20230131T193253Z
LAST-MODIFIED:20230131T193253Z
UID:6276-1694268000-1694273400@exploretarponsprings.com
SUMMARY:Denying Gravity - A Staged Reading Play
DESCRIPTION:SAGES Plays with Purpose Staged Reading Series at Tarpon Arts — be entertained\, educated and empowered to meet aging challenges with humor and wisdom! Treat a family member\, friend or neighbor and be an active participant in community theater with your personal feedback after each show. These Plays with Purpose are brought to the community FREE of charge as a “thank you” for your patronage and a community collaboration with our first responders.  \nPrepare for First Day of Fall with Prevention with Tarpon Arts & SAGES  (September is Fall Prevention month) \nThis Play with Purpose is a roller coaster experience with twists and turns between comedy and drama. A minor misstep interrupts a fiesty retiree’s busy life\, and she finds herself in a “twilight zone” of The Unexpected. Experience how Denying Gravity can quite literally save a life. \n 
URL:https://exploretarponsprings.com/event/denying-gravity-a-staged-reading-play/
LOCATION:Tarpon Springs Cultural Center\, 101 S. Pinellas Ave\, Tarpon Springs\, FL\, 34689
ATTACH;FMTTYPE=image/jpeg:https://exploretarponsprings.com/wp-content/uploads/2023/01/SAGES-Denying-Gravity.jpg
END:VEVENT
BEGIN:VEVENT
DTSTART;TZID=America/New_York:20230909T180000
DTEND;TZID=America/New_York:20230909T230000
DTSTAMP:20260424T062034
CREATED:20230323T160539Z
LAST-MODIFIED:20230323T160539Z
UID:6625-1694282400-1694300400@exploretarponsprings.com
SUMMARY:Athens By Night
DESCRIPTION:Sponge Docks: Athens Street \nEnjoy food and music from participating restaurants.
URL:https://exploretarponsprings.com/event/athens-by-night-2/
LOCATION:Sponge Docks\, 750 Dodecanese Blvd\, Tarpon Springs\, FL\, 34689\, United States
ATTACH;FMTTYPE=image/jpeg:https://exploretarponsprings.com/wp-content/uploads/2023/03/OIP.jpg
END:VEVENT
END:VCALENDAR