BEGIN:VCALENDAR
VERSION:2.0
PRODID:-//Explore Tarpon Springs - ECPv6.15.20//NONSGML v1.0//EN
CALSCALE:GREGORIAN
METHOD:PUBLISH
X-WR-CALNAME:Explore Tarpon Springs
X-ORIGINAL-URL:https://exploretarponsprings.com
X-WR-CALDESC:Events for Explore Tarpon Springs
REFRESH-INTERVAL;VALUE=DURATION:PT1H
X-Robots-Tag:noindex
X-PUBLISHED-TTL:PT1H
BEGIN:VTIMEZONE
TZID:America/New_York
BEGIN:DAYLIGHT
TZOFFSETFROM:-0500
TZOFFSETTO:-0400
TZNAME:EDT
DTSTART:20230312T070000
END:DAYLIGHT
BEGIN:STANDARD
TZOFFSETFROM:-0400
TZOFFSETTO:-0500
TZNAME:EST
DTSTART:20231105T060000
END:STANDARD
BEGIN:DAYLIGHT
TZOFFSETFROM:-0500
TZOFFSETTO:-0400
TZNAME:EDT
DTSTART:20240310T070000
END:DAYLIGHT
BEGIN:STANDARD
TZOFFSETFROM:-0400
TZOFFSETTO:-0500
TZNAME:EST
DTSTART:20241103T060000
END:STANDARD
BEGIN:DAYLIGHT
TZOFFSETFROM:-0500
TZOFFSETTO:-0400
TZNAME:EDT
DTSTART:20250309T070000
END:DAYLIGHT
BEGIN:STANDARD
TZOFFSETFROM:-0400
TZOFFSETTO:-0500
TZNAME:EST
DTSTART:20251102T060000
END:STANDARD
END:VTIMEZONE
BEGIN:VEVENT
DTSTART;TZID=America/New_York:20240117T183000
DTEND;TZID=America/New_York:20240117T200000
DTSTAMP:20260421T140310
CREATED:20231226T171623Z
LAST-MODIFIED:20231226T181056Z
UID:8567-1705516200-1705521600@exploretarponsprings.com
SUMMARY:Ukulele Workshop
DESCRIPTION:Introductory Ukulele Workshop for Beginners.\nLearn about the different sizes\, and how to hold\, tune\, strum\, and play a few chords.\nLimited quantities of ukuleles will be available at the workshop. If you have a ukulele\, please bring it or check one out at the library. \nRegister online: tarponlibrary.org/ukulele
URL:https://exploretarponsprings.com/event/ukulele-workshop-2/
LOCATION:Tarpon Springs Library\, 138 E. Lemon Street\, Tarpon Springs\, FL\, 34689\, United States
ATTACH;FMTTYPE=image/png:https://exploretarponsprings.com/wp-content/uploads/2023/12/Facebook-Event-Covers-1200-×-628-px-15-2.png
ORGANIZER;CN="Tarpon Springs Library":MAILTO:tslibrary@ctsfl.us
END:VEVENT
BEGIN:VEVENT
DTSTART;TZID=America/New_York:20240119T110000
DTEND;TZID=America/New_York:20240119T140000
DTSTAMP:20260421T140310
CREATED:20240102T211023Z
LAST-MODIFIED:20240102T211023Z
UID:9033-1705662000-1705672800@exploretarponsprings.com
SUMMARY:Arbor Day in Dorsett Park
DESCRIPTION:Friday January 19\, 2024 \nThe Garden Club of Tarpon Springs will Plant a Tree. \n11:00am\, Dorsett Park\, E. Harrison Street\, Tarpon Springs. \nThe Florida Federation of Garden Clubs is coordinating a nation-wide celebration of Arbor Day.  Every Garden Club in the nation will plant a tree. \nWe will celebrate with speeches\, music and much more. \nWe also will be handing our free tree seedlings to the community. \nAll are invited to join in. \nWe hope to see you there! \nPartnering with the City of Tarpon Springs & Dorsett Park Revitalization Committee
URL:https://exploretarponsprings.com/event/arbor-day-in-dorsett-park/
LOCATION:Dorsett Park\, 500 E. Harrison Street\, Tarpon Springs\, FL\, 34689\, United States
END:VEVENT
BEGIN:VEVENT
DTSTART;TZID=America/New_York:20240120T190000
DTEND;TZID=America/New_York:20240120T210000
DTSTAMP:20260421T140310
CREATED:20230816T194525Z
LAST-MODIFIED:20230816T195253Z
UID:7124-1705777200-1705784400@exploretarponsprings.com
SUMMARY:Bee Gees Gold – The Tribute
DESCRIPTION:The Bee Gees Gold tribute is the ultimate salute and experience of seeing the Bee Gees in their prime. Backed by a live band\, Bee Gees Gold recreates the look and sound of the Bee Gees from the 60’s to the late 70’s\, with their unique falsettos that made them legends. Performing such early hits as “Massachusetts”\, and “I Started a Joke”\, to the later Disco classics “Stayin’ Alive”\, “You Should Be Dancing”\, and so much more!
URL:https://exploretarponsprings.com/event/bee-gees-gold-the-tribute/
LOCATION:Tarpon Springs Performing Arts Center\, 324 Pine Street\, Tarpon Springs\, FL\, 34689\, United States
ATTACH;FMTTYPE=image/jpeg:https://exploretarponsprings.com/wp-content/uploads/2023/08/Bee-Gees-Gold_Header.jpg
END:VEVENT
END:VCALENDAR