BEGIN:VCALENDAR
VERSION:2.0
PRODID:-//Explore Tarpon Springs - ECPv6.15.20//NONSGML v1.0//EN
CALSCALE:GREGORIAN
METHOD:PUBLISH
X-ORIGINAL-URL:https://exploretarponsprings.com
X-WR-CALDESC:Events for Explore Tarpon Springs
REFRESH-INTERVAL;VALUE=DURATION:PT1H
X-Robots-Tag:noindex
X-PUBLISHED-TTL:PT1H
BEGIN:VTIMEZONE
TZID:America/New_York
BEGIN:DAYLIGHT
TZOFFSETFROM:-0500
TZOFFSETTO:-0400
TZNAME:EDT
DTSTART:20230312T070000
END:DAYLIGHT
BEGIN:STANDARD
TZOFFSETFROM:-0400
TZOFFSETTO:-0500
TZNAME:EST
DTSTART:20231105T060000
END:STANDARD
BEGIN:DAYLIGHT
TZOFFSETFROM:-0500
TZOFFSETTO:-0400
TZNAME:EDT
DTSTART:20240310T070000
END:DAYLIGHT
BEGIN:STANDARD
TZOFFSETFROM:-0400
TZOFFSETTO:-0500
TZNAME:EST
DTSTART:20241103T060000
END:STANDARD
BEGIN:DAYLIGHT
TZOFFSETFROM:-0500
TZOFFSETTO:-0400
TZNAME:EDT
DTSTART:20250309T070000
END:DAYLIGHT
BEGIN:STANDARD
TZOFFSETFROM:-0400
TZOFFSETTO:-0500
TZNAME:EST
DTSTART:20251102T060000
END:STANDARD
END:VTIMEZONE
BEGIN:VEVENT
DTSTART;TZID=America/New_York:20240606T190000
DTEND;TZID=America/New_York:20240606T210000
DTSTAMP:20260420T090858
CREATED:20240129T172912Z
LAST-MODIFIED:20240214T154401Z
UID:9576-1717700400-1717707600@exploretarponsprings.com
SUMMARY:Sunset Beach Concert
DESCRIPTION:The 2024 Sunset Beach Concert Series is brought to you by the City of Tarpon Springs & AdventHealth North Pinellas. Concerts are on the first Thursday of the month (February through November) and start at 7 pm. In the event of inclement weather and the concert is cancelled before the start time\, the concert will be held the following Thursday. Concessions are available for purchase. Alcohol and pets are prohibited.  Parking is limited onsite\, so a free courtesy shuttle will deliver concertgoers to and from the beach and Tarpon Springs High School. FREE!! \n2024 Band Line-up: \nFebruary 1 – TSHS Jazz Ensemble \nMarch 7 – The 727s Band \nApril 4 – The Doodads \nMay 2 – Rhythm Express \nJune 6 – The Band Grounded \nJuly 11 – ChillyFish   *2nd Thursday \nAugust 1 – Big Picture \nSeptember 5 – 60 West \nOctober 3 – The Flipside Band \nNovember 7 – Code Monkey
URL:https://exploretarponsprings.com/event/sunset-beach-concert/2024-06-06/
LOCATION:Sunset Beach\, 1800 Gulf Road\, Tarpon Springs\, FL\, 34689\, United States
ATTACH;FMTTYPE=image/jpeg:https://exploretarponsprings.com/wp-content/uploads/2024/01/Sunset-Beach-Concerts.jpg
END:VEVENT
BEGIN:VEVENT
DTSTART;TZID=America/New_York:20240607T180000
DTEND;TZID=America/New_York:20240607T220000
DTSTAMP:20260420T090858
CREATED:20240129T175415Z
LAST-MODIFIED:20240510T140251Z
UID:9588-1717783200-1717797600@exploretarponsprings.com
SUMMARY:First Friday in Historic Downtown Tarpon Springs
DESCRIPTION:A free family event held the first Friday of the month – featuring Art\, Food\, Shops and Music\, with a fun theme every month! \nFebruary 2          Valentine’s Day \nMarch 1              St. Patrick’s Day \nApril 5                Doggie Palooza \nMay 3                 NO FIRST FRIDAY \nJune 7                 Summer Fun \nJuly 5                 Red\, White & Blue \nAugust 2            Greatest Hits \nSeptember 6       Western \nOctober 4           Ghouls & Goblins \nNovember 1       All That Jazz
URL:https://exploretarponsprings.com/event/first-friday-in-historic-downtown-tarpon-springs-2024-06-07/
LOCATION:FL
ATTACH;FMTTYPE=image/jpeg:https://exploretarponsprings.com/wp-content/uploads/2024/01/24-june-ff-flyer.jpg
END:VEVENT
BEGIN:VEVENT
DTSTART;TZID=America/New_York:20240608T090000
DTEND;TZID=America/New_York:20240608T140000
DTSTAMP:20260420T090858
CREATED:20240129T173658Z
LAST-MODIFIED:20240214T154704Z
UID:9561-1717837200-1717855200@exploretarponsprings.com
SUMMARY:2nd Saturday Market (Downtown)
DESCRIPTION:
URL:https://exploretarponsprings.com/event/2nd-saturday-market-downtown/2024-06-08/
LOCATION:Downtown Tarpon Avenue\, Tarpon Springs\, FL\, 34689\, United States
ATTACH;FMTTYPE=image/jpeg:https://exploretarponsprings.com/wp-content/uploads/2024/01/24-2nd-sat-flyer.jpg
END:VEVENT
BEGIN:VEVENT
DTSTART;TZID=America/New_York:20240608T103000
DTEND;TZID=America/New_York:20240608T120000
DTSTAMP:20260420T090858
CREATED:20240508T202642Z
LAST-MODIFIED:20240508T202642Z
UID:12087-1717842600-1717848000@exploretarponsprings.com
SUMMARY:Small Business Program
DESCRIPTION:Get Your Local Business on Google Search and Maps \nShowing up when customers are searching online is more important than ever. Ensure customers can find accurate\, updated information about your local business on Google Search and Google Maps\, no matter which device they use. In this class\, you will learn how to create and manage a Google business profile from start to finish. \nThis free hybrid workshop will be presented both in person and virtually via Zoom by Pinellas County SCORE (Service Corps of Retired Executives). Please register at tarponlibrary.org/score
URL:https://exploretarponsprings.com/event/small-business-program/
LOCATION:Tarpon Springs Library\, 138 E. Lemon Street\, Tarpon Springs\, FL\, 34689\, United States
ATTACH;FMTTYPE=image/png:https://exploretarponsprings.com/wp-content/uploads/2024/05/Facebook-Event-Covers-29-6.png
ORGANIZER;CN="Tarpon Springs Library":MAILTO:tslibrary@ctsfl.us
END:VEVENT
BEGIN:VEVENT
DTSTART;TZID=America/New_York:20240608T180000
DTEND;TZID=America/New_York:20240608T230000
DTSTAMP:20260420T090858
CREATED:20240129T204140Z
LAST-MODIFIED:20240510T140638Z
UID:9633-1717869600-1717887600@exploretarponsprings.com
SUMMARY:Athens by Night: Latin Fiesta (Sponge Docks)
DESCRIPTION:Featuring live music\, dancing\, and outdoor dining at the world-famous Tarpon Springs Sponge Docks
URL:https://exploretarponsprings.com/event/athens-by-night-sponge-docks/
LOCATION:Sponge Docks\, 750 Dodecanese Blvd\, Tarpon Springs\, FL\, 34689\, United States
ATTACH;FMTTYPE=image/jpeg:https://exploretarponsprings.com/wp-content/uploads/2024/01/24-athen-latin-fiesta-flyer.jpg
END:VEVENT
BEGIN:VEVENT
DTSTART;TZID=America/New_York:20240608T190000
DTEND;TZID=America/New_York:20240608T203000
DTSTAMP:20260420T090858
CREATED:20230817T135146Z
LAST-MODIFIED:20230817T135240Z
UID:7221-1717873200-1717878600@exploretarponsprings.com
SUMMARY:A Night of Comedy with Cathy Ladman
DESCRIPTION:Cathy’s comedy focuses on family\, growing up\, relationships\, and real life from a very personal perspective. The Los Angeles Times put it best: “… Ladman has such clever\, well-written material and such a breezy\, unassuming delivery that it would be easy to overlook just how good she is: Her act seems effortless.” Her notable appearances include countless late-night television shows\, her own HBO “One Night Stand” comedy special and Cathy was awarded the American Comedy Award for Best Female Stand-Up Comic. A native New Yorker\, now living in Los Angeles\, Cathy is also an acclaimed television and film actor.
URL:https://exploretarponsprings.com/event/a-night-of-comedy-with-cathy-ladman-2/
LOCATION:FL
ATTACH;FMTTYPE=image/jpeg:https://exploretarponsprings.com/wp-content/uploads/2023/08/Cathy-Ladman_Header-1.jpg
END:VEVENT
END:VCALENDAR