BEGIN:VCALENDAR
VERSION:2.0
PRODID:-//Explore Tarpon Springs - ECPv6.15.20//NONSGML v1.0//EN
CALSCALE:GREGORIAN
METHOD:PUBLISH
X-ORIGINAL-URL:https://exploretarponsprings.com
X-WR-CALDESC:Events for Explore Tarpon Springs
REFRESH-INTERVAL;VALUE=DURATION:PT1H
X-Robots-Tag:noindex
X-PUBLISHED-TTL:PT1H
BEGIN:VTIMEZONE
TZID:America/New_York
BEGIN:DAYLIGHT
TZOFFSETFROM:-0500
TZOFFSETTO:-0400
TZNAME:EDT
DTSTART:20240310T070000
END:DAYLIGHT
BEGIN:STANDARD
TZOFFSETFROM:-0400
TZOFFSETTO:-0500
TZNAME:EST
DTSTART:20241103T060000
END:STANDARD
BEGIN:DAYLIGHT
TZOFFSETFROM:-0500
TZOFFSETTO:-0400
TZNAME:EDT
DTSTART:20250309T070000
END:DAYLIGHT
BEGIN:STANDARD
TZOFFSETFROM:-0400
TZOFFSETTO:-0500
TZNAME:EST
DTSTART:20251102T060000
END:STANDARD
BEGIN:DAYLIGHT
TZOFFSETFROM:-0500
TZOFFSETTO:-0400
TZNAME:EDT
DTSTART:20260308T070000
END:DAYLIGHT
BEGIN:STANDARD
TZOFFSETFROM:-0400
TZOFFSETTO:-0500
TZNAME:EST
DTSTART:20261101T060000
END:STANDARD
END:VTIMEZONE
BEGIN:VEVENT
DTSTART;TZID=America/New_York:20250425T190000
DTEND;TZID=America/New_York:20250425T210000
DTSTAMP:20260421T212149
CREATED:20230816T201955Z
LAST-MODIFIED:20240905T164352Z
UID:7152-1745607600-1745614800@exploretarponsprings.com
SUMMARY:UPTOWN - Motown Remixed
DESCRIPTION:Get ready to experience Motown with a fresh new feel! Uptown will take you on a first-class trip through the decades of Motown hits you love. Straight out of NYC\, the epicenter of Soul and R&B\, these young men with their incredible vocals and epic dance moves embody the class of the young Temptations\, the vocals of Marvin Gaye and Stevie Wonder\, and the contemporary feel of Bruno Mars. Get on board\, we’re going UPTOWN! \n \nFor ticket sales and more information\, please visit TarponArts.org or the Tarpon Arts Ticket Office inside the Heritage Museum at Craig Park in person or by phone at 727.942.5605 (MON-FRI\, 10AM-4PM).
URL:https://exploretarponsprings.com/event/uptown-motown-remixed/
LOCATION:Tarpon Springs Performing Arts Center\, 324 Pine Street\, Tarpon Springs\, FL\, 34689\, United States
ATTACH;FMTTYPE=image/jpeg:https://exploretarponsprings.com/wp-content/uploads/2023/08/Uptown-Header.jpg
END:VEVENT
END:VCALENDAR