BEGIN:VCALENDAR
VERSION:2.0
PRODID:-//Explore Tarpon Springs - ECPv6.15.20//NONSGML v1.0//EN
CALSCALE:GREGORIAN
METHOD:PUBLISH
X-WR-CALNAME:Explore Tarpon Springs
X-ORIGINAL-URL:https://exploretarponsprings.com
X-WR-CALDESC:Events for Explore Tarpon Springs
REFRESH-INTERVAL;VALUE=DURATION:PT1H
X-Robots-Tag:noindex
X-PUBLISHED-TTL:PT1H
BEGIN:VTIMEZONE
TZID:America/New_York
BEGIN:DAYLIGHT
TZOFFSETFROM:-0500
TZOFFSETTO:-0400
TZNAME:EDT
DTSTART:20240310T070000
END:DAYLIGHT
BEGIN:STANDARD
TZOFFSETFROM:-0400
TZOFFSETTO:-0500
TZNAME:EST
DTSTART:20241103T060000
END:STANDARD
BEGIN:DAYLIGHT
TZOFFSETFROM:-0500
TZOFFSETTO:-0400
TZNAME:EDT
DTSTART:20250309T070000
END:DAYLIGHT
BEGIN:STANDARD
TZOFFSETFROM:-0400
TZOFFSETTO:-0500
TZNAME:EST
DTSTART:20251102T060000
END:STANDARD
BEGIN:DAYLIGHT
TZOFFSETFROM:-0500
TZOFFSETTO:-0400
TZNAME:EDT
DTSTART:20260308T070000
END:DAYLIGHT
BEGIN:STANDARD
TZOFFSETFROM:-0400
TZOFFSETTO:-0500
TZNAME:EST
DTSTART:20261101T060000
END:STANDARD
END:VTIMEZONE
BEGIN:VEVENT
DTSTART;TZID=America/New_York:20250927T140000
DTEND;TZID=America/New_York:20250927T153000
DTSTAMP:20260423T105938
CREATED:20250828T193124Z
LAST-MODIFIED:20250829T172141Z
UID:17443-1758981600-1758987000@exploretarponsprings.com
SUMMARY:Songwriting in the Key of Florida
DESCRIPTION:Panayotis (Paddy) League showcases original songs influenced by Zora Neale Hurston\, Brazilian Tropicalia\, poet Constantine Cavafy\, Moira Egan’s feminist interpretations of the Odyssey\, and his experiences with Greek island music and poetry. He also shares insights into his songwriting process\, from initial ideas to completed works. \nAbout the Speaker: Dr. Panayotis (Paddy) League is a musicologist\, author\, performer\, and composer specializing in the traditional music\, dance\, and oral poetry of the Greek Islands\, Brazil\, Ireland\, and the electric guitar music of the American South. Dr. League serves as Assistant Professor of Ethnomusicology and the Director of the Center for the Music of Americas at Florida State University. He publishes and performs widely\, and was named a Master Artist by the Florida Folklife Program in 2019.
URL:https://exploretarponsprings.com/event/songwriting-in-the-key-of-florida/
LOCATION:Tarpon Springs Library\, 138 E. Lemon Street\, Tarpon Springs\, FL\, 34689\, United States
ATTACH;FMTTYPE=image/jpeg:https://exploretarponsprings.com/wp-content/uploads/2025/08/Facebook-Event-Covers-7-1.jpg
ORGANIZER;CN="Tarpon Springs Library":MAILTO:tslibrary@ctsfl.us
END:VEVENT
END:VCALENDAR