BEGIN:VCALENDAR
VERSION:2.0
PRODID:-//Explore Tarpon Springs - ECPv6.15.20//NONSGML v1.0//EN
CALSCALE:GREGORIAN
METHOD:PUBLISH
X-WR-CALNAME:Explore Tarpon Springs
X-ORIGINAL-URL:https://exploretarponsprings.com
X-WR-CALDESC:Events for Explore Tarpon Springs
REFRESH-INTERVAL;VALUE=DURATION:PT1H
X-Robots-Tag:noindex
X-PUBLISHED-TTL:PT1H
BEGIN:VTIMEZONE
TZID:America/New_York
BEGIN:DAYLIGHT
TZOFFSETFROM:-0500
TZOFFSETTO:-0400
TZNAME:EDT
DTSTART:20250309T070000
END:DAYLIGHT
BEGIN:STANDARD
TZOFFSETFROM:-0400
TZOFFSETTO:-0500
TZNAME:EST
DTSTART:20251102T060000
END:STANDARD
BEGIN:DAYLIGHT
TZOFFSETFROM:-0500
TZOFFSETTO:-0400
TZNAME:EDT
DTSTART:20260308T070000
END:DAYLIGHT
BEGIN:STANDARD
TZOFFSETFROM:-0400
TZOFFSETTO:-0500
TZNAME:EST
DTSTART:20261101T060000
END:STANDARD
BEGIN:DAYLIGHT
TZOFFSETFROM:-0500
TZOFFSETTO:-0400
TZNAME:EDT
DTSTART:20270314T070000
END:DAYLIGHT
BEGIN:STANDARD
TZOFFSETFROM:-0400
TZOFFSETTO:-0500
TZNAME:EST
DTSTART:20271107T060000
END:STANDARD
END:VTIMEZONE
BEGIN:VEVENT
DTSTART;TZID=America/New_York:20260421T180000
DTEND;TZID=America/New_York:20260421T194500
DTSTAMP:20260421T110708
CREATED:20260226T210440Z
LAST-MODIFIED:20260402T174753Z
UID:21493-1776794400-1776800700@exploretarponsprings.com
SUMMARY:CrafterSpace
DESCRIPTION:Crafters of all kinds bring their projects and come together to knit\, bead\, color\, crochet\, paint\, scrapbook\, stamp\, etc.  Craft kits are available as well as some supplies to get you started! This free program is open to adults and teens (ages 13-17) accompanied by an adult.
URL:https://exploretarponsprings.com/event/crafterspace-7/
LOCATION:Tarpon Springs Library\, 138 E. Lemon Street\, Tarpon Springs\, FL\, 34689\, United States
ATTACH;FMTTYPE=image/webp:https://exploretarponsprings.com/wp-content/uploads/2026/02/Facebook-Event-Covers-31_1.jpg.webp
ORGANIZER;CN="Tarpon Springs Library":MAILTO:tslibrary@ctsfl.us
END:VEVENT
BEGIN:VEVENT
DTSTART;TZID=America/New_York:20260425T100000
DTEND;TZID=America/New_York:20260425T160000
DTSTAMP:20260421T110708
CREATED:20250324T162233Z
LAST-MODIFIED:20260227T210247Z
UID:16327-1777111200-1777132800@exploretarponsprings.com
SUMMARY:Tarpon Springs Book Festival 2026
DESCRIPTION:Join the Tarpon Springs Merchants Association and The Gilded Page bookstore for the 2nd annual Tarpon Springs Book Festival on April 25th from 10-4 PM on Court Street in downtown Tarpon Springs. This annual street fair brings authors\, artists\, organizations\, and vendors from the Tampa Bay area and beyond together for a day of literacy celebration. FREE admission; fun for the whole family!\nFor more information visit: tarponspringsbookfestival.com
URL:https://exploretarponsprings.com/event/tarpon-springs-book-festival-2026/
LOCATION:E. Court Street\, Downtown Tarpon Springs\, Tarpon Springs\, FL\, 34689\, United States
ATTACH;FMTTYPE=image/png:https://exploretarponsprings.com/wp-content/uploads/2025/03/Book-Festival.png
END:VEVENT
BEGIN:VEVENT
DTSTART;TZID=America/New_York:20260425T190000
DTEND;TZID=America/New_York:20260425T210000
DTSTAMP:20260421T110708
CREATED:20250908T201142Z
LAST-MODIFIED:20250908T201142Z
UID:17576-1777143600-1777150800@exploretarponsprings.com
SUMMARY:Forever Simon and Garfunkel
DESCRIPTION:Celebrating the bestselling duo in rock’n’roll history with humor\, soaring energy\, charm and laser precise harmonies\, Forever Simon & Garfunkel: A Tribute\, leads the audience on a journey from the groups early success as a folk act to their global dominance as hitmakers through the best of Paul Simon’s solo career. Iconic songs include “The Sounds Of Silence\,” “Bridge Over Troubled Water\,” “Mrs. Robinson\,” “Slip Sliding Away\,” and so many more!
URL:https://exploretarponsprings.com/event/forever-simon-and-garfunkel/
LOCATION:Tarpon Springs Performing Arts Center\, 324 Pine Street\, Tarpon Springs\, FL\, 34689\, United States
ATTACH;FMTTYPE=image/jpeg:https://exploretarponsprings.com/wp-content/uploads/2025/08/Forever-Simon-and-Gar_1024x500.jpg
END:VEVENT
BEGIN:VEVENT
DTSTART;TZID=America/New_York:20260427T140000
DTEND;TZID=America/New_York:20260427T150000
DTSTAMP:20260421T110708
CREATED:20260402T175424Z
LAST-MODIFIED:20260402T175459Z
UID:22470-1777298400-1777302000@exploretarponsprings.com
SUMMARY:Laughter for Wellness: Laughter Yoga
DESCRIPTION:Laughter Yoga is an aerobic exercise that combines guided deep breathing with laughter sounds. Created in 1995 by Dr. Madan Kataria\, laughter yoga improves circulation\, promotes digestion\, reduces pain\, promotes emotional balance\, and more. Presented by Empath Health. Registration is required. Register online: tarponlibrary.org/laugh
URL:https://exploretarponsprings.com/event/laughter-for-wellness-laughter-yoga/
LOCATION:Tarpon Springs Library\, 138 E. Lemon Street\, Tarpon Springs\, FL\, 34689\, United States
ATTACH;FMTTYPE=image/jpeg:https://exploretarponsprings.com/wp-content/uploads/2026/02/laughter-for-wellness.jpg
ORGANIZER;CN="Tarpon Springs Library":MAILTO:tslibrary@ctsfl.us
END:VEVENT
END:VCALENDAR